BEGIN:VCALENDAR
VERSION:2.0
PRODID:-//Uptown New West - ECPv6.15.18//NONSGML v1.0//EN
CALSCALE:GREGORIAN
METHOD:PUBLISH
X-WR-CALNAME:Uptown New West
X-ORIGINAL-URL:https://myuptown.ca
X-WR-CALDESC:Events for Uptown New West
REFRESH-INTERVAL;VALUE=DURATION:PT1H
X-Robots-Tag:noindex
X-PUBLISHED-TTL:PT1H
BEGIN:VTIMEZONE
TZID:America/Vancouver
BEGIN:DAYLIGHT
TZOFFSETFROM:-0800
TZOFFSETTO:-0700
TZNAME:PDT
DTSTART:20250309T100000
END:DAYLIGHT
BEGIN:STANDARD
TZOFFSETFROM:-0700
TZOFFSETTO:-0800
TZNAME:PST
DTSTART:20251102T090000
END:STANDARD
BEGIN:DAYLIGHT
TZOFFSETFROM:-0800
TZOFFSETTO:-0700
TZNAME:PDT
DTSTART:20260308T100000
END:DAYLIGHT
BEGIN:STANDARD
TZOFFSETFROM:-0700
TZOFFSETTO:-0800
TZNAME:PST
DTSTART:20261101T090000
END:STANDARD
BEGIN:DAYLIGHT
TZOFFSETFROM:-0800
TZOFFSETTO:-0700
TZNAME:PDT
DTSTART:20270314T100000
END:DAYLIGHT
BEGIN:STANDARD
TZOFFSETFROM:-0700
TZOFFSETTO:-0800
TZNAME:PST
DTSTART:20271107T090000
END:STANDARD
END:VTIMEZONE
BEGIN:VEVENT
DTSTART;TZID=America/Vancouver:20260224T093000
DTEND;TZID=America/Vancouver:20260224T110000
DTSTAMP:20260422T084849
CREATED:20260209T230252Z
LAST-MODIFIED:20260209T230252Z
UID:10000841-1771925400-1771930800@myuptown.ca
SUMMARY:Loco BC: Local Impact in the Time of Buy Canada
DESCRIPTION:The City of New Westminster Economic Development Office\, in partnership with the UBA\, Downtown BIA\, New West Chamber and other business partners\, is collaborating with LOCO BC to offer a free online workshop! This session will explore the rewards\, challenges\, and how-to of localizing business purchasing and “buy local” marketing. \nJoin  to learn: \n\nThe economic\, social and environmental impacts of supporting local businesses;\nAdvice on defining local and using practical tools to measure\, promote\, and enhance your local impact;\nHow to integrate your local impact into your marketing efforts;\nStrategies to boost your digital presence\, including digital marketing and AI tools on a budget.\n\nEvent Details: \n\n\n\nDate: Tuesday\, Feb 24\, 2026\nTime: 9:30am – 11:00am PST\nFree registration: https://www.locobc.ca/events/local-impact-in-the-time-of-buy-canada
URL:https://myuptown.ca/event/loco-bc-local-impact-in-the-time-of-buy-canada/
CATEGORIES:Community,Free
ATTACH;FMTTYPE=image/jpeg:https://myuptown.ca/wp-content/uploads/2026/02/LocoWebinarSquare.jpg
ORGANIZER;CN="City of New Westminster":MAILTO:jarbo@newwestcity.ca
LOCATION:https://www.locobc.ca/events/local-impact-in-the-time-of-buy-canada
END:VEVENT
END:VCALENDAR