BEGIN:VCALENDAR
VERSION:2.0
PRODID:-//Uptown New West - ECPv6.15.18//NONSGML v1.0//EN
CALSCALE:GREGORIAN
METHOD:PUBLISH
X-ORIGINAL-URL:https://myuptown.ca
X-WR-CALDESC:Events for Uptown New West
REFRESH-INTERVAL;VALUE=DURATION:PT1H
X-Robots-Tag:noindex
X-PUBLISHED-TTL:PT1H
BEGIN:VTIMEZONE
TZID:America/Vancouver
BEGIN:DAYLIGHT
TZOFFSETFROM:-0800
TZOFFSETTO:-0700
TZNAME:PDT
DTSTART:20250309T100000
END:DAYLIGHT
BEGIN:STANDARD
TZOFFSETFROM:-0700
TZOFFSETTO:-0800
TZNAME:PST
DTSTART:20251102T090000
END:STANDARD
BEGIN:DAYLIGHT
TZOFFSETFROM:-0800
TZOFFSETTO:-0700
TZNAME:PDT
DTSTART:20260308T100000
END:DAYLIGHT
BEGIN:STANDARD
TZOFFSETFROM:-0700
TZOFFSETTO:-0800
TZNAME:PST
DTSTART:20261101T090000
END:STANDARD
BEGIN:DAYLIGHT
TZOFFSETFROM:-0800
TZOFFSETTO:-0700
TZNAME:PDT
DTSTART:20270314T100000
END:DAYLIGHT
BEGIN:STANDARD
TZOFFSETFROM:-0700
TZOFFSETTO:-0800
TZNAME:PST
DTSTART:20271107T090000
END:STANDARD
END:VTIMEZONE
BEGIN:VEVENT
DTSTART;TZID=America/Vancouver:20260227T190000
DTEND;TZID=America/Vancouver:20260227T210000
DTSTAMP:20260422T085137
CREATED:20260219T215535Z
LAST-MODIFIED:20260219T215803Z
UID:10000848-1772218800-1772226000@myuptown.ca
SUMMARY:“From the Heart\, For the Heart” A night with Maestro Rey Valera
DESCRIPTION:Presented by PNA Philippine Nurses Association of British Columbia \n“From the Heart\, For the Heart” A night with Maestro REY VALERA for his Valentine 2026 Canada Tour. The Original Filipino Music (OPM) “Hugot King” serenades us with his timeless classics including “Maging Sino Ka Man”\, Kahit Maputi na ang Buhok Ko”\, “Kung Kailangan mo Ako”\, “Malayo Pa Ang Umaga” and others.
URL:https://myuptown.ca/event/from-the-heart-for-the-heart-a-night-with-maestro-rey-valera/
LOCATION:Massey Theatre\, 735 Eighth Avenue\, New Westminster\, British Columbia\, V3M 2R2\, Canada
CATEGORIES:Music,Performance
ATTACH;FMTTYPE=image/png:https://myuptown.ca/wp-content/uploads/2026/02/Massey-1.png
END:VEVENT
END:VCALENDAR