BEGIN:VCALENDAR
VERSION:2.0
PRODID:-//Uptown New West - ECPv6.15.18//NONSGML v1.0//EN
CALSCALE:GREGORIAN
METHOD:PUBLISH
X-WR-CALNAME:Uptown New West
X-ORIGINAL-URL:https://myuptown.ca
X-WR-CALDESC:Events for Uptown New West
REFRESH-INTERVAL;VALUE=DURATION:PT1H
X-Robots-Tag:noindex
X-PUBLISHED-TTL:PT1H
BEGIN:VTIMEZONE
TZID:America/Vancouver
BEGIN:DAYLIGHT
TZOFFSETFROM:-0800
TZOFFSETTO:-0700
TZNAME:PDT
DTSTART:20250309T100000
END:DAYLIGHT
BEGIN:STANDARD
TZOFFSETFROM:-0700
TZOFFSETTO:-0800
TZNAME:PST
DTSTART:20251102T090000
END:STANDARD
BEGIN:DAYLIGHT
TZOFFSETFROM:-0800
TZOFFSETTO:-0700
TZNAME:PDT
DTSTART:20260308T100000
END:DAYLIGHT
BEGIN:STANDARD
TZOFFSETFROM:-0700
TZOFFSETTO:-0800
TZNAME:PST
DTSTART:20261101T090000
END:STANDARD
BEGIN:DAYLIGHT
TZOFFSETFROM:-0800
TZOFFSETTO:-0700
TZNAME:PDT
DTSTART:20270314T100000
END:DAYLIGHT
BEGIN:STANDARD
TZOFFSETFROM:-0700
TZOFFSETTO:-0800
TZNAME:PST
DTSTART:20271107T090000
END:STANDARD
END:VTIMEZONE
BEGIN:VEVENT
DTSTART;TZID=America/Vancouver:20260313T190000
DTEND;TZID=America/Vancouver:20260313T210000
DTSTAMP:20260422T083134
CREATED:20260223T215423Z
LAST-MODIFIED:20260223T224400Z
UID:10000850-1773428400-1773435600@myuptown.ca
SUMMARY:Relive The Music – 50s\, 60s & 70s Show
DESCRIPTION:Presented by S. A. M. Productions Ltd. \nBack by popular demand — Relive the Music 50s & 60s Show is back after 158 standing ovations in a row across Canada with a new twist. We are keeping the biggest hits from the 50s & 60s\, plus adding 70s Disco Mania with new costumes and great entertainment like usual. Medleys from the disco era — to name a few — The Village People\, Earth\, Wind & Fire\, Bee Gees\, ABBA\, Gloria Gaynor\, Chic\, Tramps\, KC & the Sunshine Band\, Sister Sledge\, and more. World champion\, as seen twice on Oprah and The Ellen Show\, Luisa Marshall will be performing all her magic alongside the other talented singers and the great band. Don’t miss this show.
URL:https://myuptown.ca/event/relive-the-music-50s-60s-70s-show/
LOCATION:Massey Theatre\, 735 Eighth Avenue\, New Westminster\, British Columbia\, V3M 2R2\, Canada
CATEGORIES:Music,Performance
ATTACH;FMTTYPE=image/jpeg:https://myuptown.ca/wp-content/uploads/2026/02/1080-x-1350-RTM-70s-Banner-Generic-Massey.jpeg
END:VEVENT
END:VCALENDAR