BEGIN:VCALENDAR
VERSION:2.0
PRODID:-//Uptown New West - ECPv6.15.18//NONSGML v1.0//EN
CALSCALE:GREGORIAN
METHOD:PUBLISH
X-ORIGINAL-URL:https://myuptown.ca
X-WR-CALDESC:Events for Uptown New West
REFRESH-INTERVAL;VALUE=DURATION:PT1H
X-Robots-Tag:noindex
X-PUBLISHED-TTL:PT1H
BEGIN:VTIMEZONE
TZID:America/Vancouver
BEGIN:DAYLIGHT
TZOFFSETFROM:-0800
TZOFFSETTO:-0700
TZNAME:PDT
DTSTART:20250309T100000
END:DAYLIGHT
BEGIN:STANDARD
TZOFFSETFROM:-0700
TZOFFSETTO:-0800
TZNAME:PST
DTSTART:20251102T090000
END:STANDARD
BEGIN:DAYLIGHT
TZOFFSETFROM:-0800
TZOFFSETTO:-0700
TZNAME:PDT
DTSTART:20260308T100000
END:DAYLIGHT
BEGIN:STANDARD
TZOFFSETFROM:-0700
TZOFFSETTO:-0800
TZNAME:PST
DTSTART:20261101T090000
END:STANDARD
BEGIN:DAYLIGHT
TZOFFSETFROM:-0800
TZOFFSETTO:-0700
TZNAME:PDT
DTSTART:20270314T100000
END:DAYLIGHT
BEGIN:STANDARD
TZOFFSETFROM:-0700
TZOFFSETTO:-0800
TZNAME:PST
DTSTART:20271107T090000
END:STANDARD
END:VTIMEZONE
BEGIN:VEVENT
DTSTART;TZID=America/Vancouver:20260328T100000
DTEND;TZID=America/Vancouver:20260328T190000
DTSTAMP:20260422T083324
CREATED:20260302T231507Z
LAST-MODIFIED:20260302T231507Z
UID:10000857-1774692000-1774724400@myuptown.ca
SUMMARY:2026 Leigh Brandt Muscle Classic
DESCRIPTION:With its reputation as a premier event\, the Leigh Brandt Muscle Classic promises an unforgettable experience for both participants and spectators. The show aims to celebrate the artistry and athleticism of bodybuilding\, as competitors showcase their years of training\, commitment\, and passion for the sport. \nThe Leigh Brandt Muscle Classic will feature multiple categories\, including Men’s Bodybuilding\, Women’s Physique\, Classic Physique\, Figure\, Wellness and Bikini. Contestants will be judged on their muscularity\, symmetry\, stage presence\, and overall presentation\, making it an exhilarating visual spectacle for enthusiasts and novices alike. \nThis year’s event boasts a panel of distinguished judges\, composed of industry experts and IFBB Pro athletes\, who will bring their extensive knowledge and expertise to ensure fair and impartial evaluations. The judging process will be conducted with the utmost professionalism and transparency\, ensuring that the deserving champions are recognized for their extraordinary dedication and hard work. \nIn addition to the competitive aspect\, the Leigh Brandt Muscle Classic will also provide an opportunity for attendees to immerse themselves in the vibrant bodybuilding community. Industry-leading vendors and sponsors will be present in the Lobby\, offering a wide range of products and services tailored to fitness enthusiasts and professionals alike.
URL:https://myuptown.ca/event/2026-leigh-brandt-muscle-classic/
LOCATION:Massey Theatre\, 735 Eighth Avenue\, New Westminster\, British Columbia\, V3M 2R2\, Canada
CATEGORIES:Community
ATTACH;FMTTYPE=image/png:https://myuptown.ca/wp-content/uploads/2026/03/LBMC-560h-x-800w.png
END:VEVENT
END:VCALENDAR