BEGIN:VCALENDAR
VERSION:2.0
PRODID:-//Uptown New West - ECPv6.15.18//NONSGML v1.0//EN
CALSCALE:GREGORIAN
METHOD:PUBLISH
X-ORIGINAL-URL:https://myuptown.ca
X-WR-CALDESC:Events for Uptown New West
REFRESH-INTERVAL;VALUE=DURATION:PT1H
X-Robots-Tag:noindex
X-PUBLISHED-TTL:PT1H
BEGIN:VTIMEZONE
TZID:America/Vancouver
BEGIN:DAYLIGHT
TZOFFSETFROM:-0800
TZOFFSETTO:-0700
TZNAME:PDT
DTSTART:20250309T100000
END:DAYLIGHT
BEGIN:STANDARD
TZOFFSETFROM:-0700
TZOFFSETTO:-0800
TZNAME:PST
DTSTART:20251102T090000
END:STANDARD
BEGIN:DAYLIGHT
TZOFFSETFROM:-0800
TZOFFSETTO:-0700
TZNAME:PDT
DTSTART:20260308T100000
END:DAYLIGHT
BEGIN:STANDARD
TZOFFSETFROM:-0700
TZOFFSETTO:-0800
TZNAME:PST
DTSTART:20261101T090000
END:STANDARD
BEGIN:DAYLIGHT
TZOFFSETFROM:-0800
TZOFFSETTO:-0700
TZNAME:PDT
DTSTART:20270314T100000
END:DAYLIGHT
BEGIN:STANDARD
TZOFFSETFROM:-0700
TZOFFSETTO:-0800
TZNAME:PST
DTSTART:20271107T090000
END:STANDARD
END:VTIMEZONE
BEGIN:VEVENT
DTSTART;TZID=America/Vancouver:20260507T150000
DTEND;TZID=America/Vancouver:20260507T190000
DTSTAMP:20260422T085100
CREATED:20260304T225041Z
LAST-MODIFIED:20260304T225041Z
UID:10001034-1778166000-1778180400@myuptown.ca
SUMMARY:New Westminster Farmers Market
DESCRIPTION:There’s never been a better time or place to shop local than the New West Farmers Market – and we are BACK on March 26th\, Every Thursday until October 29th! \nWe’re coming back with a bang! To kick of the season on March 26th\, we’ll be hosting a block party running from 3:00 PM to 7:00 PM at our usual spot in Tipperary Park! \nThe first 100 guests get a FREE TREAT\, so come early! \nStay for our Welcome Ceremony at 3:30 PM and hear from some of the folks who love the market and make it happen! \nIt’ll be fun for the whole family! Keep your kids entertained with our balloon twister\, face painter\, Sprout Club Scavenger Hunt\, and Piñata Party (at 5:30 PM)! \nWe’ve also got games for adults! Our Silent Auction features over $1500 in products\, gift cards\, tickets\, and more from local vendors and New West businesses! It’s a great opportunity to get a sampler of our 2026 vendor roster (we’re really excited about it) and to get to know more local New West businesses! \nMember Appreciation Day is also coming early! Sign up for a $10 annual membership and be entered to WIN $50 of Market Money\, which can be used at any NWFM vendor booth at any market! Show your card at participating vendors on March 26th and the first market of every following month and access discounts from a rotating selection of 8+ participating vendors! \nFeaturing live music all day long\, delicious food trucks\, and so much more! Bring your appetite and your shopping bag! We can’t wait to see all of you lovely folks there
URL:https://myuptown.ca/event/new-westminster-farmers-market/2026-05-07/
LOCATION:Tipperary Park\, Tipperary Park\, New Westminster\, V3L 1K1\, Canada
CATEGORIES:Artisan,Community,Family,Food,Free,Market,Music,Outdoors
ATTACH;FMTTYPE=image/png:https://myuptown.ca/wp-content/uploads/2026/03/pattison-6.125-x-8.75-in-3.png
END:VEVENT
BEGIN:VEVENT
DTSTART;TZID=America/Vancouver:20260507T190000
DTEND;TZID=America/Vancouver:20260507T210000
DTSTAMP:20260422T085100
CREATED:20260304T232847Z
LAST-MODIFIED:20260304T232847Z
UID:10001112-1778180400-1778187600@myuptown.ca
SUMMARY:Homin Choir
DESCRIPTION:Presented by Ukraine Harmony Foundation and Film Hive Entertainment \nHomin in Vancouver! \nVancouver! Are you ready for a special musical event? This spring\, on May 7\, 2026\, none other than the most charismatic Ukrainian choir Homin\, led by conductor Vadym Yatsenko\, will come to your city! The artists invite you to enjoy Ukrainian songs performed by the choir at Massey Theatre. Bring your family\, invite your friends\, and enjoy the wonderful performance of the Homin Choir in Vancouver together! \nHomin Choir North American Tour 2026! \nThe Homin Choir’s tour of America and Canada will be a message of love and unity for all Ukrainians around the world. They will bring with them special Ukrainian compositions\, their incredible voices\, and crazy energy! This concert will be an unforgettable journey through Ukrainian music that unites generations\, filled with special emotions and memories\, and will leave you with only the best impressions. \nDon’t miss Homin’s performance in Vancouver! \nBuy your tickets today and get ready for an extraordinary evening! \nHomin proudly supports Ukrainian defenders\, and a portion of the proceeds will be donated to support their essential needs.
URL:https://myuptown.ca/event/homin-choir/
LOCATION:Massey Theatre\, 735 Eighth Avenue\, New Westminster\, British Columbia\, V3M 2R2\, Canada
CATEGORIES:Music,Performance
END:VEVENT
BEGIN:VEVENT
DTSTART;TZID=America/Vancouver:20260507T190000
DTEND;TZID=America/Vancouver:20260507T213000
DTSTAMP:20260422T085100
CREATED:20260302T203446Z
LAST-MODIFIED:20260302T204125Z
UID:10000855-1778180400-1778189400@myuptown.ca
SUMMARY:Jazz on a Beam of Light
DESCRIPTION:Classic film scholar and musical hepcat Michael van den Bos is your host for a rhythmic retrospective revue of all that jazz in the movies. From the hot ‘n’ swinging to the cool ‘n’ mellow\, Michael takes you on a jump ‘n’ jive journey through the various styles and representations of jazz on film. Featuring vintage performance movie clips by some of the most important names in jazz history covering Louis Armstrong to Fats Waller with so much more in-between\, all projected on the big screen! In the lively lingo of Cab Calloway\, you’ll . . . reap this righteous riff\, bop bop!
URL:https://myuptown.ca/event/jazz-on-a-beam-of-light/
LOCATION:Eighth & Eight Creative Spaces\, 735 Eighth Ave\, New Westminster\, British Columbia\, V3M 2R2\, Canada
CATEGORIES:Performance
ATTACH;FMTTYPE=image/png:https://myuptown.ca/wp-content/uploads/2026/03/jazz-no-text-400x250-1.png
ORGANIZER;CN="Massey Theatre":MAILTO:info@masseytheatre.com
END:VEVENT
BEGIN:VEVENT
DTSTART;TZID=America/Vancouver:20260507T193000
DTEND;TZID=America/Vancouver:20260507T220000
DTSTAMP:20260422T085100
CREATED:20260302T233147Z
LAST-MODIFIED:20260302T233147Z
UID:10000872-1778182200-1778191200@myuptown.ca
SUMMARY:Shrek the Musical
DESCRIPTION:Presented by Royal City Musical Theatre\nBook and Lyrics by David Lindsay-Abaire\nMusic by Jeanine Tesori\nBased on the DreamWorks Animation Motion Picture and the book by William Steig\nShrek The Musical is presented through special arrangement with Music Theatre International (MTI).\nAll authorized performance materials are also supplied by MTI. www.mtishows.com \nRoyal City Musical Theatre is thrilled to present Shrek The Musical\, April 17–May 3\, 2026\, at the Massey Theatre in New Westminster! \nBased on the Oscar-winning DreamWorks film\, this Tony Award-winning musical bursts with hilarious adventure\, show-stopping songs\, and larger-than-life characters. Join Shrek\, Donkey\, Fiona\, and a cast of fairy tale misfits on a heartwarming journey that proves beauty is in the eye of the ogre. Packed with dazzling costumes\, imaginative sets\, and a fire-breathing dragon\, it’s the perfect family outing. \nDisclaimer: Shrek The Musical is presented through special arrangement with Music Theatre International; recommended for ages 6+\, contains mild language\, fantasy peril\, and comedic gross-out humour. \n  \n 
URL:https://myuptown.ca/event/shrek-the-musical/2026-05-07/
LOCATION:Massey Theatre\, 735 Eighth Avenue\, New Westminster\, British Columbia\, V3M 2R2\, Canada
CATEGORIES:Family,Performance
ATTACH;FMTTYPE=image/jpeg:https://myuptown.ca/wp-content/uploads/2026/03/2025_Shrek_Massey_notext_800x560.jpg
END:VEVENT
END:VCALENDAR