BEGIN:VCALENDAR
VERSION:2.0
PRODID:-//Uptown New West - ECPv6.15.18//NONSGML v1.0//EN
CALSCALE:GREGORIAN
METHOD:PUBLISH
X-WR-CALNAME:Uptown New West
X-ORIGINAL-URL:https://myuptown.ca
X-WR-CALDESC:Events for Uptown New West
REFRESH-INTERVAL;VALUE=DURATION:PT1H
X-Robots-Tag:noindex
X-PUBLISHED-TTL:PT1H
BEGIN:VTIMEZONE
TZID:America/Vancouver
BEGIN:DAYLIGHT
TZOFFSETFROM:-0800
TZOFFSETTO:-0700
TZNAME:PDT
DTSTART:20250309T100000
END:DAYLIGHT
BEGIN:STANDARD
TZOFFSETFROM:-0700
TZOFFSETTO:-0800
TZNAME:PST
DTSTART:20251102T090000
END:STANDARD
BEGIN:DAYLIGHT
TZOFFSETFROM:-0800
TZOFFSETTO:-0700
TZNAME:PDT
DTSTART:20260308T100000
END:DAYLIGHT
BEGIN:STANDARD
TZOFFSETFROM:-0700
TZOFFSETTO:-0800
TZNAME:PST
DTSTART:20261101T090000
END:STANDARD
BEGIN:DAYLIGHT
TZOFFSETFROM:-0800
TZOFFSETTO:-0700
TZNAME:PDT
DTSTART:20270314T100000
END:DAYLIGHT
BEGIN:STANDARD
TZOFFSETFROM:-0700
TZOFFSETTO:-0800
TZNAME:PST
DTSTART:20271107T090000
END:STANDARD
END:VTIMEZONE
BEGIN:VEVENT
DTSTART;TZID=America/Vancouver:20260524T193000
DTEND;TZID=America/Vancouver:20260524T213000
DTSTAMP:20260422T084822
CREATED:20260305T000321Z
LAST-MODIFIED:20260305T000611Z
UID:10001119-1779651000-1779658200@myuptown.ca
SUMMARY:Take It To The Limit – A Tribute To The Eagles
DESCRIPTION:Presented by Moon Coin Productions Inc. \nEagles fans! Mark your calendars because on May 24\, 2026 Eagles Tribute – “Take It To The Limit” from Vancouver\, is making a spectacular return to New Westminster!\nGet ready for an unforgettable night of live music as some of Canada’s most talented musicians and vocalists bring to life your favourite Eagles hits\, including classics like “Hotel California\,” “Heartache Tonight\,” “Peaceful Easy Feeling\,” “Take It To The Limit\,” “Desperado\,” “Life In The Fast Lane\,” “Take It Easy\,” “Lyin’ Eyes\,” and more! \nWith rave reviews from coast to coast\, this show promises to be a fully immersive experience\, capturing the essence and energy of an authentic Eagles concert. Get your tickets now and join us for an unforgettable evening of Eagles music! Catch a sneak peak of what’s in store here: www.EaglesTributeShow.com \n“I’m Glenn Anderson from the NHL. I saw Take It To The Limit Tonight and they were fantastic! I highly recommend them. Good energy. Good people and lots of fun. Make sure you make it to the show. You have a good time coming.“ – Glenn Anderson – NHL (6 X Stanley Cup winner and NHL Hall Of Fame inductee) – Florida USA \n“One of the best I’ve seen …if anyone has the chance to see these guys perform\, it’s well worth going. Everything from sound\, stage\, lighting & vocals were perfect! A great show!“ – Angie Tatarniuk – Vancouver \n“Fantastic concert\, perfect sound and worth every penny!“ – Gary Leiper – Surrey
URL:https://myuptown.ca/event/take-it-to-the-limit-a-tribute-to-the-eagles/
LOCATION:Massey Theatre\, 735 Eighth Avenue\, New Westminster\, British Columbia\, V3M 2R2\, Canada
CATEGORIES:Music,Performance
ATTACH;FMTTYPE=image/jpeg:https://myuptown.ca/wp-content/uploads/2026/03/TITTL-400-x-600_NEW-WEST.jpg
END:VEVENT
END:VCALENDAR