BEGIN:VCALENDAR
VERSION:2.0
PRODID:-//Uptown New West - ECPv6.15.18//NONSGML v1.0//EN
CALSCALE:GREGORIAN
METHOD:PUBLISH
X-ORIGINAL-URL:https://myuptown.ca
X-WR-CALDESC:Events for Uptown New West
REFRESH-INTERVAL;VALUE=DURATION:PT1H
X-Robots-Tag:noindex
X-PUBLISHED-TTL:PT1H
BEGIN:VTIMEZONE
TZID:America/Vancouver
BEGIN:DAYLIGHT
TZOFFSETFROM:-0800
TZOFFSETTO:-0700
TZNAME:PDT
DTSTART:20250309T100000
END:DAYLIGHT
BEGIN:STANDARD
TZOFFSETFROM:-0700
TZOFFSETTO:-0800
TZNAME:PST
DTSTART:20251102T090000
END:STANDARD
BEGIN:DAYLIGHT
TZOFFSETFROM:-0800
TZOFFSETTO:-0700
TZNAME:PDT
DTSTART:20260308T100000
END:DAYLIGHT
BEGIN:STANDARD
TZOFFSETFROM:-0700
TZOFFSETTO:-0800
TZNAME:PST
DTSTART:20261101T090000
END:STANDARD
BEGIN:DAYLIGHT
TZOFFSETFROM:-0800
TZOFFSETTO:-0700
TZNAME:PDT
DTSTART:20270314T100000
END:DAYLIGHT
BEGIN:STANDARD
TZOFFSETFROM:-0700
TZOFFSETTO:-0800
TZNAME:PST
DTSTART:20271107T090000
END:STANDARD
END:VTIMEZONE
BEGIN:VEVENT
DTSTART;TZID=America/Vancouver:20261004T120000
DTEND;TZID=America/Vancouver:20261004T150000
DTSTAMP:20260423T003837
CREATED:20260202T224807Z
LAST-MODIFIED:20260413T154936Z
UID:10000739-1791115200-1791126000@myuptown.ca
SUMMARY:Uptown Live Summer Series
DESCRIPTION:Presented by TD Bank Group\, Uptown Live Summer Series is a music and arts event transforming Uptown New Westminster into a vibrant stage every Saturday and Sunday from June 27 to September 13\, 2026. This year’s series features busker-style performances by local artists in plazas\, patios\, and street corners throughout the Uptown area. Larger events taking place throughout the series at Uptown Plaza.  Presented with the support of the Uptown Business Association and thanks to a grant from the City of New Westminster
URL:https://myuptown.ca/event/uptown-live-summer-series/2026-10-04/
LOCATION:Uptown Plaza\, Belmont & 6th\, New Westminster
CATEGORIES:Artisan,Community,Family,Food,Free,Music,Outdoors,Performance
ATTACH;FMTTYPE=image/jpeg:https://myuptown.ca/wp-content/uploads/2026/02/uptownlive.jpeg
END:VEVENT
BEGIN:VEVENT
DTSTART;TZID=America/Vancouver:20261004T193000
DTEND;TZID=America/Vancouver:20261004T213000
DTSTAMP:20260423T003837
CREATED:20260304T235340Z
LAST-MODIFIED:20260304T235449Z
UID:10001121-1791142200-1791149400@myuptown.ca
SUMMARY:Rumours: The Ultimate Tribute to Fleetwood Mac
DESCRIPTION:Presented by VaughnCo Entertainment \nVaughnCo Entertainment is proud to present “Rumours” The Ultimate Fleetwood Mac tribute show based in Los Angeles\, California. The group recreates the legendary band in its youthful heyday from 1975-1979. “It’s been said imitation is the sincerest form of flattery. I say THANK YOU!”- Richard Dashut Record Producer – Fleetwood Mac albums including Rumours\, Tusk\, Live Mirage\, Tango In The Night\, and Time. \nAfter finding huge success in Los Angeles\, selling out their regular Roxy Theatre performances month after month\, the band moved from the world famous Sunset Strip to Casinos\, Theatres\, and clubs all over Canada and the United States. \nRumours has meticulously put together a show that spares no detail. From period accurate equipment and costumes to spot on characterizations and musical performances\, “Rumours” takes you back to a time when music was still an unbridled cultural experience\, and bands weren’t afraid to put on a show. Relive the rock and roll magic with “Rumours” The Ultimate Fleetwood Mac Tribute Show!
URL:https://myuptown.ca/event/rumours-the-ultimate-tribute-to-fleetwood-mac/
LOCATION:Massey Theatre\, 735 Eighth Avenue\, New Westminster\, British Columbia\, V3M 2R2\, Canada
CATEGORIES:Music,Performance
ATTACH;FMTTYPE=image/png:https://myuptown.ca/wp-content/uploads/2026/03/Rumours-1170-x-600-px84.png
END:VEVENT
END:VCALENDAR