BEGIN:VCALENDAR
VERSION:2.0
PRODID:-//Uptown New West - ECPv6.15.18//NONSGML v1.0//EN
CALSCALE:GREGORIAN
METHOD:PUBLISH
X-ORIGINAL-URL:https://myuptown.ca
X-WR-CALDESC:Events for Uptown New West
REFRESH-INTERVAL;VALUE=DURATION:PT1H
X-Robots-Tag:noindex
X-PUBLISHED-TTL:PT1H
BEGIN:VTIMEZONE
TZID:America/Vancouver
BEGIN:DAYLIGHT
TZOFFSETFROM:-0800
TZOFFSETTO:-0700
TZNAME:PDT
DTSTART:20250309T100000
END:DAYLIGHT
BEGIN:STANDARD
TZOFFSETFROM:-0700
TZOFFSETTO:-0800
TZNAME:PST
DTSTART:20251102T090000
END:STANDARD
BEGIN:DAYLIGHT
TZOFFSETFROM:-0800
TZOFFSETTO:-0700
TZNAME:PDT
DTSTART:20260308T100000
END:DAYLIGHT
BEGIN:STANDARD
TZOFFSETFROM:-0700
TZOFFSETTO:-0800
TZNAME:PST
DTSTART:20261101T090000
END:STANDARD
BEGIN:DAYLIGHT
TZOFFSETFROM:-0800
TZOFFSETTO:-0700
TZNAME:PDT
DTSTART:20270314T100000
END:DAYLIGHT
BEGIN:STANDARD
TZOFFSETFROM:-0700
TZOFFSETTO:-0800
TZNAME:PST
DTSTART:20271107T090000
END:STANDARD
END:VTIMEZONE
BEGIN:VEVENT
DTSTART;TZID=America/Vancouver:20261101T120000
DTEND;TZID=America/Vancouver:20261101T150000
DTSTAMP:20260423T015027
CREATED:20260202T224807Z
LAST-MODIFIED:20260413T154936Z
UID:10000747-1793534400-1793545200@myuptown.ca
SUMMARY:Uptown Live Summer Series
DESCRIPTION:Presented by TD Bank Group\, Uptown Live Summer Series is a music and arts event transforming Uptown New Westminster into a vibrant stage every Saturday and Sunday from June 27 to September 13\, 2026. This year’s series features busker-style performances by local artists in plazas\, patios\, and street corners throughout the Uptown area. Larger events taking place throughout the series at Uptown Plaza.  Presented with the support of the Uptown Business Association and thanks to a grant from the City of New Westminster
URL:https://myuptown.ca/event/uptown-live-summer-series/2026-11-01/
LOCATION:Uptown Plaza\, Belmont & 6th\, New Westminster
CATEGORIES:Artisan,Community,Family,Food,Free,Music,Outdoors,Performance
ATTACH;FMTTYPE=image/jpeg:https://myuptown.ca/wp-content/uploads/2026/02/uptownlive.jpeg
END:VEVENT
BEGIN:VEVENT
DTSTART;TZID=America/Vancouver:20261101T190000
DTEND;TZID=America/Vancouver:20261101T210000
DTSTAMP:20260423T015027
CREATED:20260304T235649Z
LAST-MODIFIED:20260304T235902Z
UID:10001122-1793559600-1793566800@myuptown.ca
SUMMARY:Kanan Gill: Not This Again
DESCRIPTION:Presented by Outback Presents \nKanan Gill is one of India’s most prominent stand-up comedians\, widely regarded for his incisive observational humour and meticulous approach to writing. His comedy blends everyday insight with a global sensibility\, allowing his work to travel seamlessly across cultures and audiences. \nRising from a strong digital following to become a formidable live performer\, Kanan has headlined sold-out theatres and auditoriums around the world. His most recent world tour reached over 100\,000 people across North America\, Europe\, Asia\, and Australia — a scale achieved by only a handful of Indian stand-up comics. Known for his calm stage presence and sharply constructed material\, Kanan’s performances rely on precision rather than spectacle\, earning him a loyal international audience. \nIn addition to stand-up\, Kanan has written\, acted\, and released multiple comedy specials\, further establishing his reputation as one of the defining voices in contemporary Indian comedy. His work reflects a confident restraint and clarity that resonate well beyond national borders. \nIn 2026\, Kanan Gill returns with his most ambitious international tour to-date\, premiering a brand-new stand-up show across some of the most iconic venues across the globe.
URL:https://myuptown.ca/event/kanan-gill-not-this-again/
LOCATION:Massey Theatre\, 735 Eighth Avenue\, New Westminster\, British Columbia\, V3M 2R2\, Canada
CATEGORIES:Performance
ATTACH;FMTTYPE=image/jpeg:https://myuptown.ca/wp-content/uploads/2026/03/KananGill_NEWBC_400x250_Image.jpg
END:VEVENT
END:VCALENDAR