BEGIN:VCALENDAR
VERSION:2.0
PRODID:-//Uptown New West - ECPv6.15.18//NONSGML v1.0//EN
CALSCALE:GREGORIAN
METHOD:PUBLISH
X-WR-CALNAME:Uptown New West
X-ORIGINAL-URL:https://myuptown.ca
X-WR-CALDESC:Events for Uptown New West
REFRESH-INTERVAL;VALUE=DURATION:PT1H
X-Robots-Tag:noindex
X-PUBLISHED-TTL:PT1H
BEGIN:VTIMEZONE
TZID:America/Vancouver
BEGIN:DAYLIGHT
TZOFFSETFROM:-0800
TZOFFSETTO:-0700
TZNAME:PDT
DTSTART:20250309T100000
END:DAYLIGHT
BEGIN:STANDARD
TZOFFSETFROM:-0700
TZOFFSETTO:-0800
TZNAME:PST
DTSTART:20251102T090000
END:STANDARD
BEGIN:DAYLIGHT
TZOFFSETFROM:-0800
TZOFFSETTO:-0700
TZNAME:PDT
DTSTART:20260308T100000
END:DAYLIGHT
BEGIN:STANDARD
TZOFFSETFROM:-0700
TZOFFSETTO:-0800
TZNAME:PST
DTSTART:20261101T090000
END:STANDARD
BEGIN:DAYLIGHT
TZOFFSETFROM:-0800
TZOFFSETTO:-0700
TZNAME:PDT
DTSTART:20270314T100000
END:DAYLIGHT
BEGIN:STANDARD
TZOFFSETFROM:-0700
TZOFFSETTO:-0800
TZNAME:PST
DTSTART:20271107T090000
END:STANDARD
END:VTIMEZONE
BEGIN:VEVENT
DTSTART;TZID=America/Vancouver:20260221T193000
DTEND;TZID=America/Vancouver:20260221T213000
DTSTAMP:20260422T150431
CREATED:20260218T223724Z
LAST-MODIFIED:20260218T223906Z
UID:10000843-1771702200-1771709400@myuptown.ca
SUMMARY:Forever Seger – The Silver Bullet Experience
DESCRIPTION:Presented by VaughnCo Entertainment \nA tribute to the music of Bob Seger \nForever Seger creates a dynamic journey through the timeless music of Bob Seger and The Silver Bullet Band. With authentic vocals\, commanding performances and that unmistakable Seger sound\, Forever Seger’s fast growing reputation as THE Bob Seger tribute experience\, has propelled them onto the top-ranking concert stages and festivals across North America. \nFrom the opening notes of the timeless classic “Turn the Page”\, to Rock and Roll anthems such as “Hollywood Nights”\, “Old time Rock and Roll”\, and “Night Moves”\, it’s clear why Bob Seger fans are calling Forever Seger a true concert experience that invites audiences to dance and sing along once again to the soundtrack of their lives.
URL:https://myuptown.ca/event/forever-seger-the-silver-bullet-experience/
LOCATION:Massey Theatre\, 735 Eighth Avenue\, New Westminster\, British Columbia\, V3M 2R2\, Canada
CATEGORIES:Music,Performance
ATTACH;FMTTYPE=image/png:https://myuptown.ca/wp-content/uploads/2026/02/Forever-Seger-New-Westminster1920-x-1080-px-1170-x-600-px37.png
END:VEVENT
BEGIN:VEVENT
DTSTART;TZID=America/Vancouver:20260216T113000
DTEND;TZID=America/Vancouver:20260216T130000
DTSTAMP:20260422T150431
CREATED:20260202T220522Z
LAST-MODIFIED:20260202T220705Z
UID:10000709-1771241400-1771246800@myuptown.ca
SUMMARY:Family Day Skate All Ages
DESCRIPTION:Enjoy skating with your friends and family. Children 7 years and under must have a guardian (16+ years) on the ice or in the building observing. Staff will be on site to assist with skating aids as well as give tips to new skaters. Activity zones will be offered at the discretion of staff. No hockey sticks or figure skating during this skate. Skate rentals available. A limited quantity of helmets are available at no cost.
URL:https://myuptown.ca/event/family-day-skate-all-ages/
LOCATION:Moody Park Arena\, 701 Eighth Avenue\, New Westminster\, V3M 2R2
CATEGORIES:Community,Family
ORGANIZER;CN="City of New Westminster":MAILTO:jarbo@newwestcity.ca
END:VEVENT
BEGIN:VEVENT
DTSTART;TZID=America/Vancouver:20260214T200000
DTEND;TZID=America/Vancouver:20260214T220000
DTSTAMP:20260422T150432
CREATED:20260211T221418Z
LAST-MODIFIED:20260211T221932Z
UID:10000842-1771099200-1771106400@myuptown.ca
SUMMARY:PUNCH NINE - 全是九分梗
DESCRIPTION:Presented by Nine Point Comedy \nPunch Nine is a 2026 North American Chinese stand-up comedy tour headlined by championship-winning comedian Zhai Jianing. The show also features popular comedians Maodou\, Zhang Haozhe\, Yueming\, Baoge\, and Dong Xiao\, and will tour major cities across North America. Presenting diverse comedic styles and high-quality material\, the tour offers Chinese-speaking audiences a fresh\, engaging\, and high-energy live stand-up experience.
URL:https://myuptown.ca/event/punch-nine-%e5%85%a8%e6%98%af%e4%b9%9d%e5%88%86%e6%a2%97/
LOCATION:Massey Theatre\, 735 Eighth Avenue\, New Westminster\, British Columbia\, V3M 2R2\, Canada
CATEGORIES:Performance
ATTACH;FMTTYPE=image/jpeg:https://myuptown.ca/wp-content/uploads/2026/02/400-×-250.jpg
ORGANIZER;CN="Massey Theatre":MAILTO:info@masseytheatre.com
END:VEVENT
BEGIN:VEVENT
DTSTART;TZID=America/Vancouver:20260214T183000
DTEND;TZID=America/Vancouver:20260214T200000
DTSTAMP:20260422T150432
CREATED:20260202T220915Z
LAST-MODIFIED:20260202T220915Z
UID:10000708-1771093800-1771099200@myuptown.ca
SUMMARY:Family Skate: Family Day Olympics
DESCRIPTION:Enjoy Olympic themed activities on and off the ice. Concession will be open. An adult must accompany all children during this event. No hockey sticks or figure skating during this skate.
URL:https://myuptown.ca/event/family-skate-family-day-olympics/
LOCATION:Moody Park Arena\, 701 Eighth Avenue\, New Westminster\, V3M 2R2
CATEGORIES:Community,Family
ORGANIZER;CN="City of New Westminster":MAILTO:jarbo@newwestcity.ca
END:VEVENT
BEGIN:VEVENT
DTSTART;TZID=America/Vancouver:20260207T160000
DTEND;TZID=America/Vancouver:20260207T180000
DTSTAMP:20260422T150432
CREATED:20260202T205817Z
LAST-MODIFIED:20260202T221323Z
UID:10000707-1770480000-1770487200@myuptown.ca
SUMMARY:Massey Presents Ballet Jörgen’s A Midsummer Night’s Dream
DESCRIPTION:Ballet Jörgen’s A Midsummer Night’s Dream is a whimsical new ballet that reimagines Shakespeare’s beloved comedy through a distinctly Canadian lens. Set to Mendelssohn’s enchanting score—this original production by Bengt Jörgen transports the tale of love\, mischief\, and magical fairies into the heart of Canada’s northern landscapes. This playful\, family-friendly ballet captures the wonder of the wilderness and the timeless joy of Shakespeare’s story for audiences of all ages.
URL:https://myuptown.ca/event/massey-presents-ballet-jorgens-a-midsummer-nights-dream/
LOCATION:Massey Theatre\, 735 Eighth Avenue\, New Westminster\, British Columbia\, V3M 2R2\, Canada
CATEGORIES:Community,Family
ATTACH;FMTTYPE=image/jpeg:https://myuptown.ca/wp-content/uploads/2026/02/1.jpg
ORGANIZER;CN="Massey Theatre":MAILTO:info@masseytheatre.com
END:VEVENT
END:VCALENDAR